BEGIN:VCALENDAR
VERSION:2.0
PRODID:-//Library Market//iCal Export//EN
BEGIN:VEVENT
SUMMARY:Ozobot Explorers
UID:16591
DTSTAMP:20260424T233600Z
DTSTART:20260427T200000Z
DTEND:20260427T210000Z
LOCATION:221 Spring St., Amherst, OH 44001, United States
ROOM: Community Room A/B
DESCRIPTION:Learn how to guide Ozobots through challenges in this hands-on
  coding experience. No prior coding or Ozobot experience required. Designe
 d for ages 8 and up. Registration is required. Please register each child
  separately. Register below or call the library at 440-988-4230.Please not
 e: This event was originally scheduled for Monday, April 20 at 4:30pm and 
 has been rescheduled to Monday, April 27 at 4pm.
URL:https://amherstpl.librarycalendar.com/event/ozobot-explorers-16591
END:VEVENT
END:VCALENDAR
